BEGIN:VCALENDAR
VERSION:2.0
PRODID:Imitheme.com 
BEGIN:VEVENT
UID:20260423T201506323826575
DTSTAMP;TZID=UTC:2026-04-23 20:15:06
DTSTART;TZID=America/Los_Angeles:20260423T201506
DTEND;TZID=America/Los_Angeles:20260423T201506
SUMMARY:The Role Of Heritage Brands In Building Societies
LOCATION:138 West Street\, Sandown\, Santon\, 2031
DESCRIPTION:
URL:https://patonbrands.com/eventer/the-role-of-heritage-brands-in-building-societies/
END:VEVENT
END:VCALENDAR
