BEGIN:VCALENDAR
VERSION:2.0
PRODID:Imitheme.com 
BEGIN:VEVENT
UID:20260423T201617141116324
DTSTAMP;TZID=UTC:2026-04-23 20:16:17
DTSTART;TZID=America/Los_Angeles:20260423T201617
DTEND;TZID=America/Los_Angeles:20260423T201617
SUMMARY:Top 16 Youth-Owned Brands Awards
LOCATION:The Capital\: On The Park\, Sandton
DESCRIPTION:
URL:https://patonbrands.com/eventer/top-16-youth-owned-brand/
END:VEVENT
END:VCALENDAR
